BEGIN:VCALENDAR
VERSION:2.0
PRODID:-//District 28 Toastmasters - ECPv4.9.14//NONSGML v1.0//EN
CALSCALE:GREGORIAN
METHOD:PUBLISH
X-WR-CALNAME:District 28 Toastmasters
X-ORIGINAL-URL:https://d28toastmasters.org
X-WR-CALDESC:Events for District 28 Toastmasters
BEGIN:VTIMEZONE
TZID:America/Detroit
BEGIN:DAYLIGHT
TZOFFSETFROM:-0500
TZOFFSETTO:-0400
TZNAME:EDT
DTSTART:20250309T070000
END:DAYLIGHT
BEGIN:STANDARD
TZOFFSETFROM:-0400
TZOFFSETTO:-0500
TZNAME:EST
DTSTART:20251102T060000
END:STANDARD
END:VTIMEZONE
BEGIN:VEVENT
DTSTART;TZID=America/Detroit:20251025T093000
DTEND;TZID=America/Detroit:20251025T120000
DTSTAMP:20260423T160845
CREATED:20251016T012558Z
LAST-MODIFIED:20251016T012558Z
UID:3071-1761384600-1761393600@d28toastmasters.org
SUMMARY:Learn About the New Pathways Changes – Special Presentation at Optimistic Orators Meeting
DESCRIPTION:Attention VPs of Education and members: big changes are coming to the Toastmasters Pathways program starting October 2025—and now’s your chance to hear all about them! Join Optimistic Orators on Zoom during their regular club meeting as Cathy Trudeau\, DTM presents a concise\, practical overview of what’s new in Pathways and what it means for you and your club. \nWhether you’re a VP of Education\, club officer\, or a member working through your Path\, this session will help you: \n\nUnderstand the new meeting role requirements in each level\nLearn about the educational presentation now required in Levels 3–5\nGet clarity on retiring paths vs. those being kept\nAsk questions and prepare your club for a smooth transition\n\nEveryone in the district is welcome! Register to attend for more information. If you have any questions\, please reach out to Joyce Wiazowski\, DTM at vppr-5890@toastmastersclubs.org. \n
URL:https://d28toastmasters.org/event/whats-new-in-pathways-2025-10-25/
END:VEVENT
END:VCALENDAR