BEGIN:VCALENDAR
VERSION:2.0
PRODID:-//District 28 Toastmasters - ECPv4.9.14//NONSGML v1.0//EN
CALSCALE:GREGORIAN
METHOD:PUBLISH
X-WR-CALNAME:District 28 Toastmasters
X-ORIGINAL-URL:https://d28toastmasters.org
X-WR-CALDESC:Events for District 28 Toastmasters
BEGIN:VTIMEZONE
TZID:America/Detroit
BEGIN:DAYLIGHT
TZOFFSETFROM:-0500
TZOFFSETTO:-0400
TZNAME:EDT
DTSTART:20240310T070000
END:DAYLIGHT
BEGIN:STANDARD
TZOFFSETFROM:-0400
TZOFFSETTO:-0500
TZNAME:EST
DTSTART:20241103T060000
END:STANDARD
END:VTIMEZONE
BEGIN:VEVENT
DTSTART;TZID=America/Detroit:20240222T180000
DTEND;TZID=America/Detroit:20240222T190000
DTSTAMP:20260423T115723
CREATED:20240201T235050Z
LAST-MODIFIED:20240201T235050Z
UID:2556-1708624800-1708628400@d28toastmasters.org
SUMMARY:Toastmasters Leadership Institute: Round 2\, Part A
DESCRIPTION:We are excited to host the upcoming District 28 Toastmasters Leadership Institute (TLI) and our winter round of Club Officer Training! \nRegistration cost: free \nThis round of club officer training will be held online using the Zoom video conferencing platform. \nPlease consider registering for our Round 2 TLI sessions! \nRegistration link: https://bit.ly/d28-tli-registration-february-2024 \nAfter registering successfully\, this same personalized Zoom meeting information will be used for each of our TLI Zoom sessions. \nIf you are a member of a Toastmasters club and are not currently a club officer\, we welcome you to attend. \nA special invitation is extended to our prospective 2024–2025 club officers. Clubs receive credit in the Distinguished Club Program for officer training. \nFor our club officers that had already attended and successfully completed our Saturday\, November 18\, 2023 or Saturday\, January 27\, 2024 TLI session\, you had already been given credit for your training credit. \nIn order to earn club officer training credit\, a club officer must attend one Plenary session (Part A) AND one Club Officer Training session (Part B). \nHope to see you in the next few weeks! \nAll times listed are Eastern Standard Time (EST\, UTC -5). \n\nFriday\, February 9: 12 noon to 1 PM – Plenary (Part A)\nThursday\, February 22: 6 to 7 PM – Plenary (Part A)\nMonday\, February 26: 6 to 7 PM – Club Officer Training (Part B)\nThursday\, February 29: 12 noon to 1 PM – Club Officer Training (Part B)\n\n
URL:https://d28toastmasters.org/event/toastmasters-leadership-institute-round-2-part-a-2024-02-22/
END:VEVENT
END:VCALENDAR