BEGIN:VCALENDAR
VERSION:2.0
PRODID:-//District 28 Toastmasters - ECPv4.9.14//NONSGML v1.0//EN
CALSCALE:GREGORIAN
METHOD:PUBLISH
X-WR-CALNAME:District 28 Toastmasters
X-ORIGINAL-URL:https://d28toastmasters.org
X-WR-CALDESC:Events for District 28 Toastmasters
BEGIN:VTIMEZONE
TZID:America/Detroit
BEGIN:DAYLIGHT
TZOFFSETFROM:-0500
TZOFFSETTO:-0400
TZNAME:EDT
DTSTART:20190310T070000
END:DAYLIGHT
BEGIN:STANDARD
TZOFFSETFROM:-0400
TZOFFSETTO:-0500
TZNAME:EST
DTSTART:20191103T060000
END:STANDARD
END:VTIMEZONE
BEGIN:VEVENT
DTSTART;TZID=America/Detroit:20190826T180000
DTEND;TZID=America/Detroit:20190826T203000
DTSTAMP:20260424T200217
CREATED:20190812T225222Z
LAST-MODIFIED:20190812T225222Z
UID:553-1566842400-1566851400@d28toastmasters.org
SUMMARY:Toastmasters Leadership Institute – Plymouth
DESCRIPTION:The Toastmasters Leadership Institute is your chance to connect with fellow Toastmasters and learn leadership skills that will serve you well in Toastmasters and beyond. \nClub officers\, please remember to sign in when you arrive at the event in order to receive credit for attendance. In the meantime\, please contact our Program Quality Director with any questions about the event. \nLocation\nOur August 26th TLI will be held at Robert Bosch Plymouth Township Technical Center\, located at 15000 North Haggerty Road in Plymouth. \n
URL:https://d28toastmasters.org/event/toastmasters-leadership-institute-plymouth/
LOCATION:Robert Bosch Plymouth Township Technical Center\, 15000 N Haggerty Rd\, Plymouth\, MI\, 48170\, United States
END:VEVENT
END:VCALENDAR