BEGIN:VCALENDAR
VERSION:2.0
PRODID:-//District 28 Toastmasters - ECPv4.9.14//NONSGML v1.0//EN
CALSCALE:GREGORIAN
METHOD:PUBLISH
X-WR-CALNAME:District 28 Toastmasters
X-ORIGINAL-URL:https://d28toastmasters.org
X-WR-CALDESC:Events for District 28 Toastmasters
BEGIN:VTIMEZONE
TZID:America/Detroit
BEGIN:DAYLIGHT
TZOFFSETFROM:-0500
TZOFFSETTO:-0400
TZNAME:EDT
DTSTART:20250309T070000
END:DAYLIGHT
BEGIN:STANDARD
TZOFFSETFROM:-0400
TZOFFSETTO:-0500
TZNAME:EST
DTSTART:20251102T060000
END:STANDARD
END:VTIMEZONE
BEGIN:VEVENT
DTSTART;TZID=America/Detroit:20251122T083000
DTEND;TZID=America/Detroit:20251122T150000
DTSTAMP:20260423T133236
CREATED:20251105T022219Z
LAST-MODIFIED:20251105T022219Z
UID:3074-1763800200-1763823600@d28toastmasters.org
SUMMARY:Toastmasters Leadership Institute & Elective Workshops
DESCRIPTION:You’re invited to join us in person or on Zoom at our Toastmasters Leadership Institute (TLI) for a morning filled with learning\, networking\, and fun. Whether you’re a seasoned Toastmaster or just starting out\, this event is perfect for honing your leadership and communication skills. Club officers who attend the morning session can earn credit for their clubs in the Distinguished Club Program. \nIf you’re planning to attend in person\, please register for the morning session by November 19th to be included in the count for continental breakfast. \nThat’s not all! At the optional afternoon session\, you can choose from one of three exciting workshops: \n\nThe Art of Training/Facilitating\nPathways Support\nHow to Get Your DTM\n\nThese workshops will run concurrently\, so choose your favorite. If you’re interested in more than one\, bring a friend and compare notes! \nLunch will be provided for members who register to attend both the morning and afternoon sessions in person. \nSchedule\n\n8:30 AM\nCheck-In & Social Time\n9:00 AM\nGavel\n12:30 PM\nTLI Adjournment & Lunch For Full-Day Registrants\n1:00 PM\nWorkshops\n3:00 PM\nWorkshop Adjournment\n\nRegistration\nPlease register on Eventbrite to attend one or both sessions. The Zoom link will be on your registration receipt. To get credit for training\, club officers can complete the check-in form that will be provided at the TLI asking for your club(s) and office(s). \nLocation\nThe in-person event will be held at the Buell Building on the campus of Lawrence Technological University. Buell is marked as #5 on the LTU campus map (PDF). \n
URL:https://d28toastmasters.org/event/toastmasters-leadership-institute-2025-11-22/
LOCATION:Lawrence Technological University\, 21000 W Ten Mile Rd\, Southfield\, MI\, 48075\, United States
END:VEVENT
END:VCALENDAR