BEGIN:VCALENDAR
VERSION:2.0
PRODID:-//District 28 Toastmasters - ECPv4.9.14//NONSGML v1.0//EN
CALSCALE:GREGORIAN
METHOD:PUBLISH
X-WR-CALNAME:District 28 Toastmasters
X-ORIGINAL-URL:https://d28toastmasters.org
X-WR-CALDESC:Events for District 28 Toastmasters
BEGIN:VTIMEZONE
TZID:America/Detroit
BEGIN:DAYLIGHT
TZOFFSETFROM:-0500
TZOFFSETTO:-0400
TZNAME:EDT
DTSTART:20240310T070000
END:DAYLIGHT
BEGIN:STANDARD
TZOFFSETFROM:-0400
TZOFFSETTO:-0500
TZNAME:EST
DTSTART:20241103T060000
END:STANDARD
END:VTIMEZONE
BEGIN:VEVENT
DTSTART;TZID=America/Detroit:20240323T090000
DTEND;TZID=America/Detroit:20240323T120000
DTSTAMP:20260424T130820
CREATED:20240318T174146Z
LAST-MODIFIED:20250305T225930Z
UID:2633-1711184400-1711195200@d28toastmasters.org
SUMMARY:Tall Tales and Short Stories Speech Contests – DETROIT ROCKS! Club
DESCRIPTION:Join the members of Detroit Rocks in person or on Zoom for their 12th annual Tall Tales & Short Stories contest. This is an unofficial competition\, and all District 28 members are invited to compete in this fun event! \nIf you would like to participate\, please contact LaShon Bowers (lashonbowersd28@gmail.com). \nTimes\n\n9:00 AM\nBreakfast and networking\n9:30 AM\nZoom meeting opens (contestants and judges are urged to check in early)\n10:00 AM\nThe real blarney begins!\n\nZoom Meeting\n\nZoom meeting link\nTall Tales & Short Stories Contest – March 23\, 2024\nMeeting ID\n838 8858 0214\nPasscode\n433179\n\nParking\nFree parking is available in the SOMA Parking Garage at 81 Erskine St. \n\n
URL:https://d28toastmasters.org/event/tall-tales-and-short-stories-speech-contests-2024-03-23/
LOCATION:MSU Detroit Center\, 3408 Woodward Ave\, Detroit\, MI\, 48201\, United States
END:VEVENT
END:VCALENDAR