BEGIN:VCALENDAR
VERSION:2.0
PRODID:-//District 28 Toastmasters - ECPv4.9.14//NONSGML v1.0//EN
CALSCALE:GREGORIAN
METHOD:PUBLISH
X-WR-CALNAME:District 28 Toastmasters
X-ORIGINAL-URL:https://d28toastmasters.org
X-WR-CALDESC:Events for District 28 Toastmasters
BEGIN:VTIMEZONE
TZID:America/Detroit
BEGIN:DAYLIGHT
TZOFFSETFROM:-0500
TZOFFSETTO:-0400
TZNAME:EDT
DTSTART:20240310T070000
END:DAYLIGHT
BEGIN:STANDARD
TZOFFSETFROM:-0400
TZOFFSETTO:-0500
TZNAME:EST
DTSTART:20241103T060000
END:STANDARD
END:VTIMEZONE
BEGIN:VEVENT
DTSTART;TZID=America/Detroit:20240315T183000
DTEND;TZID=America/Detroit:20240315T203000
DTSTAMP:20260423T182640
CREATED:20240302T141742Z
LAST-MODIFIED:20240911T212259Z
UID:2617-1710527400-1710534600@d28toastmasters.org
SUMMARY:Prepare\, Practice\, Polish: Insightful Feedback for Contest Speeches
DESCRIPTION:Prepare\, Practice\, Polish: Insightful Feedback for Contest Speeches \nHosted by Advanced Articulators Club (A+) \nThis is a speechathon for those advancing to Division-level Speech Contests. Guest speakers receive round-robin feedback. Guests learn valuable speaking and evaluation tips. \nMeeting format: Hybrid \nIn-person: First Presbyterian Church\, 200 East 2nd Street\, Perrysburg\, Ohio. \nOnline: Zoom – meeting link provided with online Eventbrite registraion. \nRegistration link: https://www.eventbrite.com/e/prepare-practice-polish-insightful-feedback-for-contest-speeches-tickets-786635346497 \nPlease consider asking any questions to the club through their Contact Us page: https://8109.toastmastersclubs.org/?contactus \n
URL:https://d28toastmasters.org/event/prepare-practice-polish-insightful-feedback-for-contest-speeches-2024-03-15/
LOCATION:First Presbyterian Church\, 200 East Second St\, Perrysburg\, OH\, 43551\, United States
END:VEVENT
END:VCALENDAR