BEGIN:VCALENDAR
VERSION:2.0
PRODID:-//District 28 Toastmasters - ECPv4.9.14//NONSGML v1.0//EN
CALSCALE:GREGORIAN
METHOD:PUBLISH
X-WR-CALNAME:District 28 Toastmasters
X-ORIGINAL-URL:https://d28toastmasters.org
X-WR-CALDESC:Events for District 28 Toastmasters
BEGIN:VTIMEZONE
TZID:America/Detroit
BEGIN:DAYLIGHT
TZOFFSETFROM:-0500
TZOFFSETTO:-0400
TZNAME:EDT
DTSTART:20200308T070000
END:DAYLIGHT
BEGIN:STANDARD
TZOFFSETFROM:-0400
TZOFFSETTO:-0500
TZNAME:EST
DTSTART:20201101T060000
END:STANDARD
END:VTIMEZONE
BEGIN:VEVENT
DTSTART;TZID=America/Detroit:20200208T100000
DTEND;TZID=America/Detroit:20200208T160000
DTSTAMP:20260423T161240
CREATED:20191118T155344Z
LAST-MODIFIED:20200207T030553Z
UID:680-1581156000-1581177600@d28toastmasters.org
SUMMARY:Area 1 Speech Contest
DESCRIPTION:Times: \n\n9:30 AM\nDoors open\n9:45 AM\nBriefings\n10:15 AM\nGavel\n\nNotes: \n\nLight refreshments served\n\n
URL:https://d28toastmasters.org/event/area-1-speech-contest/
LOCATION:West Toledo Branch Library\, 1320 W Sylvania Ave\, Toledo\, OH\, 43612\, United States
END:VEVENT
END:VCALENDAR