BEGIN:VCALENDAR
VERSION:2.0
PRODID:-//District 28 Toastmasters - ECPv4.9.14//NONSGML v1.0//EN
CALSCALE:GREGORIAN
METHOD:PUBLISH
X-WR-CALNAME:District 28 Toastmasters
X-ORIGINAL-URL:https://d28toastmasters.org
X-WR-CALDESC:Events for District 28 Toastmasters
BEGIN:VTIMEZONE
TZID:America/Detroit
BEGIN:DAYLIGHT
TZOFFSETFROM:-0500
TZOFFSETTO:-0400
TZNAME:EDT
DTSTART:20250309T070000
END:DAYLIGHT
BEGIN:STANDARD
TZOFFSETFROM:-0400
TZOFFSETTO:-0500
TZNAME:EST
DTSTART:20251102T060000
END:STANDARD
END:VTIMEZONE
BEGIN:VEVENT
DTSTART;TZID=America/Detroit:20251031T183000
DTEND;TZID=America/Detroit:20251031T200000
DTSTAMP:20260423T145343
CREATED:20250930T233457Z
LAST-MODIFIED:20250930T233457Z
UID:3059-1761935400-1761940800@d28toastmasters.org
SUMMARY:Going Down the Road to Giving a TEDx Talk: We're Not in Kansas Anymore\, Toto! – Advanced Articulators Club (A+)
DESCRIPTION:Are you curious about how to deliver a powerful TEDx Talk? Join the members of Advanced Articulators (A+) in person or online to hear seasoned speakers share their insights and tips. Learn the secrets behind a successful talk\, from choosing a topic to perfecting your delivery. Get inspired and motivated to take the stage and share your ideas that are worth spreading! \nRegistration\nRegister on Eventbrite to receive the Zoom link for the event. \nQuestions?\nFor more information\, contact Lawrence Moebs at lawrencemoebs@gmail.com or via phone/text at 734-634-3241. \nParking\nPark on the side of the building and enter from the side door (there are a few stairs to climb). \n
URL:https://d28toastmasters.org/event/advanced-articulators-road-to-tedx-2025-10-31/
LOCATION:First Presbyterian Church\, 200 East Second St\, Perrysburg\, OH\, 43551\, United States
END:VEVENT
END:VCALENDAR