BEGIN:VCALENDAR
VERSION:2.0
PRODID:-//District 28 Toastmasters - ECPv4.9.14//NONSGML v1.0//EN
CALSCALE:GREGORIAN
METHOD:PUBLISH
X-WR-CALNAME:District 28 Toastmasters
X-ORIGINAL-URL:https://d28toastmasters.org
X-WR-CALDESC:Events for District 28 Toastmasters
BEGIN:VTIMEZONE
TZID:America/Detroit
BEGIN:DAYLIGHT
TZOFFSETFROM:-0500
TZOFFSETTO:-0400
TZNAME:EDT
DTSTART:20250309T070000
END:DAYLIGHT
BEGIN:STANDARD
TZOFFSETFROM:-0400
TZOFFSETTO:-0500
TZNAME:EST
DTSTART:20251102T060000
END:STANDARD
END:VTIMEZONE
BEGIN:VEVENT
DTSTART;TZID=America/Detroit:20251028T180000
DTEND;TZID=America/Detroit:20251028T191500
DTSTAMP:20260423T160621
CREATED:20251001T003510Z
LAST-MODIFIED:20251001T003510Z
UID:3061-1761674400-1761678900@d28toastmasters.org
SUMMARY:A Roast of Bill Moylan – MetroMasters
DESCRIPTION:Join the members of MetroMasters as they recognize Bill Moylan for recently completing his 20th DTM and all 11 paths in Pathways a second time! All are welcome to attend and share in the fun. \nZoom Meeting\n\nZoom meeting link\nA Roast of Bill Moylan – October 28\, 2025\n\nQuestions?\nFor more information\, contact Karen Baird\, Club President\, at baird14195@yahoo.com or via phone at 313-927-2335. \n
URL:https://d28toastmasters.org/event/a-roast-of-bill-moylan-2025-10-28/
END:VEVENT
END:VCALENDAR